BEGIN:VCALENDAR
VERSION:2.0
PRODID:-//Helmut List Halle - ECPv6.15.17.1//NONSGML v1.0//EN
CALSCALE:GREGORIAN
METHOD:PUBLISH
X-WR-CALNAME:Helmut List Halle
X-ORIGINAL-URL:https://www.helmut-list-halle.com
X-WR-CALDESC:Veranstaltungen für Helmut List Halle
REFRESH-INTERVAL;VALUE=DURATION:PT1H
X-Robots-Tag:noindex
X-PUBLISHED-TTL:PT1H
BEGIN:VTIMEZONE
TZID:Europe/Vienna
BEGIN:DAYLIGHT
TZOFFSETFROM:+0100
TZOFFSETTO:+0200
TZNAME:CEST
DTSTART:20260329T010000
END:DAYLIGHT
BEGIN:STANDARD
TZOFFSETFROM:+0200
TZOFFSETTO:+0100
TZNAME:CET
DTSTART:20261025T010000
END:STANDARD
BEGIN:DAYLIGHT
TZOFFSETFROM:+0100
TZOFFSETTO:+0200
TZNAME:CEST
DTSTART:20270328T010000
END:DAYLIGHT
BEGIN:STANDARD
TZOFFSETFROM:+0200
TZOFFSETTO:+0100
TZNAME:CET
DTSTART:20271031T010000
END:STANDARD
BEGIN:DAYLIGHT
TZOFFSETFROM:+0100
TZOFFSETTO:+0200
TZNAME:CEST
DTSTART:20280326T010000
END:DAYLIGHT
BEGIN:STANDARD
TZOFFSETFROM:+0200
TZOFFSETTO:+0100
TZNAME:CET
DTSTART:20281029T010000
END:STANDARD
END:VTIMEZONE
BEGIN:VEVENT
DTSTART;TZID=Europe/Vienna:20270219T193000
DTEND;TZID=Europe/Vienna:20270219T220000
DTSTAMP:20260425T212538
CREATED:20260309T124024Z
LAST-MODIFIED:20260309T124519Z
UID:10000976-1803065400-1803074400@www.helmut-list-halle.com
SUMMARY:Drei Haselnüsse für Aschenbrödel - Das Musical
DESCRIPTION:[vc_row][vc_column][vc_column_text css=““] \nDer Winter 2026/27 wird märchenhaft – Aschenbrödel verzaubert live und\ngeht mit noch mehr Spielorten auf große Musical-Reise!\n[/vc_column_text][/vc_column][/vc_row][vc_row][vc_column][vc_column_text css=““]Der zeitlose Weihnachtsklassiker kehrt zurück – und zwar so lebendig wie nie zuvor. DREI HASELNÜSSE FÜR ASCHENBRÖDEL – DAS MUSICAL bringt im Winter 2026/27 die Magie des Kultfilms mit seiner berühmten Originalmusik endlich live auf die Bühne und ist in einer erweiterten Tour erstmals in zahlreichen neuen Städten zu erleben. Ein emotionales\, mitreißendes Erlebnis für die ganze Familie\, das die Adventszeit um ein neues Highlight bereichert. \nSo fühlt sich Weihnachten live an\nSeit über 50 Jahren gehört „Drei Haselnüsse für Aschenbrödel“ zu den wichtigsten Traditionen der Weihnachtszeit. Millionen Menschen verbinden mit dem Film die schönsten Erinnerungen an Wintertage. Das Musical lässt diese Magie neu aufleben: von funkelnden Schneelandschaften über das prachtvolle Schloss bis hin zum glitzernden Ball\, auf dem Aschenbrödel und der Prinz auf berührende Weise zueinanderfinden. \nDie Musik: Kult trifft Musicalmagie\nDie ikonische Titelmelodie von Karel Svoboda – ein echter Gänsehautmoment für Generationen – bildet das musikalische Fundament der Show. Ergänzt wird sie durch frische\, emotionale Kompositionen von Thomas Zaufke (Die wunderbare Reise des Nils Holgersson\, Grimm! und Preisträger des Deutschen Musical Theater Preises). Gemeinsam entsteht ein musikalisches Erlebnis\, das Nostalgie und Neues perfekt verbindet und das Publikum garantiert in Weihnachtsstimmung versetzt.[/vc_column_text][/vc_column][/vc_row][vc_row disable_element=“yes“][vc_column]\n	\n		\n			\n						\n	\n\n			\n						\n	\n\n			\n						\n	\n\n			\n						\n	\n	\n\n[/vc_column][/vc_row][vc_row disable_element=“yes“][vc_column][vc_column_text] \npresented by\n[/vc_column_text][vc_row_inner][vc_column_inner width=“1/6″ offset=“vc_col-lg-2 vc_col-md-4 vc_col-xs-6″]\n		\n					\n										\n			\n\n[/vc_column_inner][vc_column_inner width=“1/6″ offset=“vc_col-lg-2 vc_col-md-4 vc_col-xs-6″]\n		\n					\n										\n			\n\n[/vc_column_inner][vc_column_inner width=“1/6″ offset=“vc_col-lg-2 vc_col-md-4 vc_col-xs-6″][/vc_column_inner][vc_column_inner width=“1/6″ offset=“vc_col-lg-2 vc_col-md-4 vc_col-xs-6″][/vc_column_inner][vc_column_inner width=“1/6″ offset=“vc_col-lg-2 vc_col-md-4 vc_col-xs-6″][/vc_column_inner][vc_column_inner width=“1/6″ offset=“vc_col-lg-2 vc_col-md-4 vc_col-xs-6″][/vc_column_inner][/vc_row_inner][/vc_column][/vc_row][vc_row][vc_column width=“1/3″][vc_column_text] \nTickets\n[/vc_column_text][vc_column_text] \n[vc_separator color=“black“ align=“align_left“ border_width=“7″ el_width=“50″] \n[/vc_column_text]\n	Tickets: 19.02.2027\, 19:30 Uhr\n\n\n	Tickets: 20.02.2027\, 15:00 Uhr\n\n\n	Tickets: 20.02.2027\, 19:30 Uhr\n\n\n	Tickets: 21.02.2027\, 14:00 Uhr\n\n[/vc_column][vc_column width=“1/3″][vc_column_text] \nPartnerhotel\n[/vc_column_text][vc_column_text][vc_separator color=“black“ align=“align_left“ border_width=“7″ el_width=“50″][/vc_column_text]\n	Lendhotel\n\n\n	Harry's Home - 15% off\n\n[/vc_column][vc_column width=“1/3″][/vc_column][/vc_row][vc_row disable_element=“yes“][vc_column width=“1/3″][vc_column_text css=““] \nTickets: bringticket\n[/vc_column_text][vc_column_text] \n[vc_separator color=“black“ align=“align_left“ border_width=“7″ el_width=“50″] \n[/vc_column_text][vc_raw_html css=““]JTNDZGl2JTIwaWQlM0QlMjJicmluZ3RpY2tldC1lbWJlZC1wb2RhcmQlMjIlM0UlM0MlMkZkaXYlM0UlMEQlMEElM0NzY3JpcHQlMjBzcmMlM0QlMjJodHRwcyUzQSUyRiUyRmNoZWNrb3V0LmJyaW5ndGlja2V0LmNvbSUyRmFzc2V0cyUyRmJ0LWNoZWNrb3V0LmpzJTIyJTNFJTNDJTJGc2NyaXB0JTNFJTBEJTBBJTNDc2NyaXB0JTNFJTBEJTBBJTIwJTIwd2luZG93LkJUQ2hlY2tvdXQuY3JlYXRlQ29tcGFjdCUyOCU3QiUwRCUwQSUyMCUyMCUyMCUyMGVsZW1lbnRJZCUzQSUyMCUyMmJyaW5ndGlja2V0LWVtYmVkLXBvZGFyZCUyMiUyQyUwRCUwQSUyMCUyMCUyMCUyMGV2ZW50SWQlM0ElMjAlMjIwMTk4N2UxMi0wZTFkLTcyZWQtOGVjNy00MWFhNmU3NzJkOTQlMjIlMkMlMEQlMEElMjAlMjAlMjAlMjAlMkYlMkYlMjBvcHRpb25hbCUwRCUwQSUyMCUyMCUyMCUyMCUyRiUyQSUwRCUwQSUyMCUyMCUyMCUyMHdpZHRoJTNBJTIwJTIyMTAwJTI1JTIyJTJDJTBEJTBBJTIwJTIwJTIwJTIwaGVpZ2h0JTNBJTIwJTIyNTUwcHglMjIlMEQlMEElMjAlMjAlMjAlMjAlMkElMkYlMEQlMEElMjAlMjAlN0QlMjklMEQlMEElM0MlMkZzY3JpcHQlM0U=[/vc_raw_html][/vc_column][vc_column width=“1/3″][vc_column_text] \nTickets\n[/vc_column_text][vc_column_text] \n[vc_separator color=“black“ align=“align_left“ border_width=“7″ el_width=“50″] \n[/vc_column_text]\n	Tickets Kaufen\n\n[/vc_column][vc_column width=“1/3″][vc_column_text] \nPartnerhotel\n[/vc_column_text][vc_column_text][vc_separator color=“black“ align=“align_left“ border_width=“7″ el_width=“50″][/vc_column_text]\n	Lendhotel Graz\n\n[/vc_column][/vc_row][vc_row][vc_column][vc_column_text css=““ el_class=“bildcredits“][/vc_column_text][/vc_column][/vc_row]
URL:https://www.helmut-list-halle.com/event/drei-haselnuesse-fuer-aschenbroedel-das-musica/2027-02-19/
LOCATION:Helmut List Halle\, Wagner-Biro-Straße 98a\, Graz\, 8020\, Österreich
CATEGORIES:Musical
ATTACH;FMTTYPE=image/jpeg:https://www.helmut-list-halle.com/wp-content/uploads/2026/03/hlh_Eventbild_1920x1080.jpg
END:VEVENT
BEGIN:VEVENT
DTSTART;TZID=Europe/Vienna:20270220T150000
DTEND;TZID=Europe/Vienna:20270220T173000
DTSTAMP:20260425T212538
CREATED:20260309T124024Z
LAST-MODIFIED:20260309T124519Z
UID:10000973-1803135600-1803144600@www.helmut-list-halle.com
SUMMARY:Drei Haselnüsse für Aschenbrödel - Das Musical
DESCRIPTION:[vc_row][vc_column][vc_column_text css=““] \nDer Winter 2026/27 wird märchenhaft – Aschenbrödel verzaubert live und\ngeht mit noch mehr Spielorten auf große Musical-Reise!\n[/vc_column_text][/vc_column][/vc_row][vc_row][vc_column][vc_column_text css=““]Der zeitlose Weihnachtsklassiker kehrt zurück – und zwar so lebendig wie nie zuvor. DREI HASELNÜSSE FÜR ASCHENBRÖDEL – DAS MUSICAL bringt im Winter 2026/27 die Magie des Kultfilms mit seiner berühmten Originalmusik endlich live auf die Bühne und ist in einer erweiterten Tour erstmals in zahlreichen neuen Städten zu erleben. Ein emotionales\, mitreißendes Erlebnis für die ganze Familie\, das die Adventszeit um ein neues Highlight bereichert. \nSo fühlt sich Weihnachten live an\nSeit über 50 Jahren gehört „Drei Haselnüsse für Aschenbrödel“ zu den wichtigsten Traditionen der Weihnachtszeit. Millionen Menschen verbinden mit dem Film die schönsten Erinnerungen an Wintertage. Das Musical lässt diese Magie neu aufleben: von funkelnden Schneelandschaften über das prachtvolle Schloss bis hin zum glitzernden Ball\, auf dem Aschenbrödel und der Prinz auf berührende Weise zueinanderfinden. \nDie Musik: Kult trifft Musicalmagie\nDie ikonische Titelmelodie von Karel Svoboda – ein echter Gänsehautmoment für Generationen – bildet das musikalische Fundament der Show. Ergänzt wird sie durch frische\, emotionale Kompositionen von Thomas Zaufke (Die wunderbare Reise des Nils Holgersson\, Grimm! und Preisträger des Deutschen Musical Theater Preises). Gemeinsam entsteht ein musikalisches Erlebnis\, das Nostalgie und Neues perfekt verbindet und das Publikum garantiert in Weihnachtsstimmung versetzt.[/vc_column_text][/vc_column][/vc_row][vc_row disable_element=“yes“][vc_column]\n	\n		\n			\n						\n	\n\n			\n						\n	\n\n			\n						\n	\n\n			\n						\n	\n	\n\n[/vc_column][/vc_row][vc_row disable_element=“yes“][vc_column][vc_column_text] \npresented by\n[/vc_column_text][vc_row_inner][vc_column_inner width=“1/6″ offset=“vc_col-lg-2 vc_col-md-4 vc_col-xs-6″]\n		\n					\n										\n			\n\n[/vc_column_inner][vc_column_inner width=“1/6″ offset=“vc_col-lg-2 vc_col-md-4 vc_col-xs-6″]\n		\n					\n										\n			\n\n[/vc_column_inner][vc_column_inner width=“1/6″ offset=“vc_col-lg-2 vc_col-md-4 vc_col-xs-6″][/vc_column_inner][vc_column_inner width=“1/6″ offset=“vc_col-lg-2 vc_col-md-4 vc_col-xs-6″][/vc_column_inner][vc_column_inner width=“1/6″ offset=“vc_col-lg-2 vc_col-md-4 vc_col-xs-6″][/vc_column_inner][vc_column_inner width=“1/6″ offset=“vc_col-lg-2 vc_col-md-4 vc_col-xs-6″][/vc_column_inner][/vc_row_inner][/vc_column][/vc_row][vc_row][vc_column width=“1/3″][vc_column_text] \nTickets\n[/vc_column_text][vc_column_text] \n[vc_separator color=“black“ align=“align_left“ border_width=“7″ el_width=“50″] \n[/vc_column_text]\n	Tickets: 19.02.2027\, 19:30 Uhr\n\n\n	Tickets: 20.02.2027\, 15:00 Uhr\n\n\n	Tickets: 20.02.2027\, 19:30 Uhr\n\n\n	Tickets: 21.02.2027\, 14:00 Uhr\n\n[/vc_column][vc_column width=“1/3″][vc_column_text] \nPartnerhotel\n[/vc_column_text][vc_column_text][vc_separator color=“black“ align=“align_left“ border_width=“7″ el_width=“50″][/vc_column_text]\n	Lendhotel\n\n\n	Harry's Home - 15% off\n\n[/vc_column][vc_column width=“1/3″][/vc_column][/vc_row][vc_row disable_element=“yes“][vc_column width=“1/3″][vc_column_text css=““] \nTickets: bringticket\n[/vc_column_text][vc_column_text] \n[vc_separator color=“black“ align=“align_left“ border_width=“7″ el_width=“50″] \n[/vc_column_text][vc_raw_html css=““]JTNDZGl2JTIwaWQlM0QlMjJicmluZ3RpY2tldC1lbWJlZC1wb2RhcmQlMjIlM0UlM0MlMkZkaXYlM0UlMEQlMEElM0NzY3JpcHQlMjBzcmMlM0QlMjJodHRwcyUzQSUyRiUyRmNoZWNrb3V0LmJyaW5ndGlja2V0LmNvbSUyRmFzc2V0cyUyRmJ0LWNoZWNrb3V0LmpzJTIyJTNFJTNDJTJGc2NyaXB0JTNFJTBEJTBBJTNDc2NyaXB0JTNFJTBEJTBBJTIwJTIwd2luZG93LkJUQ2hlY2tvdXQuY3JlYXRlQ29tcGFjdCUyOCU3QiUwRCUwQSUyMCUyMCUyMCUyMGVsZW1lbnRJZCUzQSUyMCUyMmJyaW5ndGlja2V0LWVtYmVkLXBvZGFyZCUyMiUyQyUwRCUwQSUyMCUyMCUyMCUyMGV2ZW50SWQlM0ElMjAlMjIwMTk4N2UxMi0wZTFkLTcyZWQtOGVjNy00MWFhNmU3NzJkOTQlMjIlMkMlMEQlMEElMjAlMjAlMjAlMjAlMkYlMkYlMjBvcHRpb25hbCUwRCUwQSUyMCUyMCUyMCUyMCUyRiUyQSUwRCUwQSUyMCUyMCUyMCUyMHdpZHRoJTNBJTIwJTIyMTAwJTI1JTIyJTJDJTBEJTBBJTIwJTIwJTIwJTIwaGVpZ2h0JTNBJTIwJTIyNTUwcHglMjIlMEQlMEElMjAlMjAlMjAlMjAlMkElMkYlMEQlMEElMjAlMjAlN0QlMjklMEQlMEElM0MlMkZzY3JpcHQlM0U=[/vc_raw_html][/vc_column][vc_column width=“1/3″][vc_column_text] \nTickets\n[/vc_column_text][vc_column_text] \n[vc_separator color=“black“ align=“align_left“ border_width=“7″ el_width=“50″] \n[/vc_column_text]\n	Tickets Kaufen\n\n[/vc_column][vc_column width=“1/3″][vc_column_text] \nPartnerhotel\n[/vc_column_text][vc_column_text][vc_separator color=“black“ align=“align_left“ border_width=“7″ el_width=“50″][/vc_column_text]\n	Lendhotel Graz\n\n[/vc_column][/vc_row][vc_row][vc_column][vc_column_text css=““ el_class=“bildcredits“][/vc_column_text][/vc_column][/vc_row]
URL:https://www.helmut-list-halle.com/event/drei-haselnuesse-fuer-aschenbroedel-das-musica/2027-02-20/1/
LOCATION:Helmut List Halle\, Wagner-Biro-Straße 98a\, Graz\, 8020\, Österreich
CATEGORIES:Musical
ATTACH;FMTTYPE=image/jpeg:https://www.helmut-list-halle.com/wp-content/uploads/2026/03/hlh_Eventbild_1920x1080.jpg
END:VEVENT
BEGIN:VEVENT
DTSTART;TZID=Europe/Vienna:20270220T193000
DTEND;TZID=Europe/Vienna:20270220T220000
DTSTAMP:20260425T212538
CREATED:20260309T124024Z
LAST-MODIFIED:20260309T124519Z
UID:10000974-1803151800-1803160800@www.helmut-list-halle.com
SUMMARY:Drei Haselnüsse für Aschenbrödel - Das Musical
DESCRIPTION:[vc_row][vc_column][vc_column_text css=““] \nDer Winter 2026/27 wird märchenhaft – Aschenbrödel verzaubert live und\ngeht mit noch mehr Spielorten auf große Musical-Reise!\n[/vc_column_text][/vc_column][/vc_row][vc_row][vc_column][vc_column_text css=““]Der zeitlose Weihnachtsklassiker kehrt zurück – und zwar so lebendig wie nie zuvor. DREI HASELNÜSSE FÜR ASCHENBRÖDEL – DAS MUSICAL bringt im Winter 2026/27 die Magie des Kultfilms mit seiner berühmten Originalmusik endlich live auf die Bühne und ist in einer erweiterten Tour erstmals in zahlreichen neuen Städten zu erleben. Ein emotionales\, mitreißendes Erlebnis für die ganze Familie\, das die Adventszeit um ein neues Highlight bereichert. \nSo fühlt sich Weihnachten live an\nSeit über 50 Jahren gehört „Drei Haselnüsse für Aschenbrödel“ zu den wichtigsten Traditionen der Weihnachtszeit. Millionen Menschen verbinden mit dem Film die schönsten Erinnerungen an Wintertage. Das Musical lässt diese Magie neu aufleben: von funkelnden Schneelandschaften über das prachtvolle Schloss bis hin zum glitzernden Ball\, auf dem Aschenbrödel und der Prinz auf berührende Weise zueinanderfinden. \nDie Musik: Kult trifft Musicalmagie\nDie ikonische Titelmelodie von Karel Svoboda – ein echter Gänsehautmoment für Generationen – bildet das musikalische Fundament der Show. Ergänzt wird sie durch frische\, emotionale Kompositionen von Thomas Zaufke (Die wunderbare Reise des Nils Holgersson\, Grimm! und Preisträger des Deutschen Musical Theater Preises). Gemeinsam entsteht ein musikalisches Erlebnis\, das Nostalgie und Neues perfekt verbindet und das Publikum garantiert in Weihnachtsstimmung versetzt.[/vc_column_text][/vc_column][/vc_row][vc_row disable_element=“yes“][vc_column]\n	\n		\n			\n						\n	\n\n			\n						\n	\n\n			\n						\n	\n\n			\n						\n	\n	\n\n[/vc_column][/vc_row][vc_row disable_element=“yes“][vc_column][vc_column_text] \npresented by\n[/vc_column_text][vc_row_inner][vc_column_inner width=“1/6″ offset=“vc_col-lg-2 vc_col-md-4 vc_col-xs-6″]\n		\n					\n										\n			\n\n[/vc_column_inner][vc_column_inner width=“1/6″ offset=“vc_col-lg-2 vc_col-md-4 vc_col-xs-6″]\n		\n					\n										\n			\n\n[/vc_column_inner][vc_column_inner width=“1/6″ offset=“vc_col-lg-2 vc_col-md-4 vc_col-xs-6″][/vc_column_inner][vc_column_inner width=“1/6″ offset=“vc_col-lg-2 vc_col-md-4 vc_col-xs-6″][/vc_column_inner][vc_column_inner width=“1/6″ offset=“vc_col-lg-2 vc_col-md-4 vc_col-xs-6″][/vc_column_inner][vc_column_inner width=“1/6″ offset=“vc_col-lg-2 vc_col-md-4 vc_col-xs-6″][/vc_column_inner][/vc_row_inner][/vc_column][/vc_row][vc_row][vc_column width=“1/3″][vc_column_text] \nTickets\n[/vc_column_text][vc_column_text] \n[vc_separator color=“black“ align=“align_left“ border_width=“7″ el_width=“50″] \n[/vc_column_text]\n	Tickets: 19.02.2027\, 19:30 Uhr\n\n\n	Tickets: 20.02.2027\, 15:00 Uhr\n\n\n	Tickets: 20.02.2027\, 19:30 Uhr\n\n\n	Tickets: 21.02.2027\, 14:00 Uhr\n\n[/vc_column][vc_column width=“1/3″][vc_column_text] \nPartnerhotel\n[/vc_column_text][vc_column_text][vc_separator color=“black“ align=“align_left“ border_width=“7″ el_width=“50″][/vc_column_text]\n	Lendhotel\n\n\n	Harry's Home - 15% off\n\n[/vc_column][vc_column width=“1/3″][/vc_column][/vc_row][vc_row disable_element=“yes“][vc_column width=“1/3″][vc_column_text css=““] \nTickets: bringticket\n[/vc_column_text][vc_column_text] \n[vc_separator color=“black“ align=“align_left“ border_width=“7″ el_width=“50″] \n[/vc_column_text][vc_raw_html css=““]JTNDZGl2JTIwaWQlM0QlMjJicmluZ3RpY2tldC1lbWJlZC1wb2RhcmQlMjIlM0UlM0MlMkZkaXYlM0UlMEQlMEElM0NzY3JpcHQlMjBzcmMlM0QlMjJodHRwcyUzQSUyRiUyRmNoZWNrb3V0LmJyaW5ndGlja2V0LmNvbSUyRmFzc2V0cyUyRmJ0LWNoZWNrb3V0LmpzJTIyJTNFJTNDJTJGc2NyaXB0JTNFJTBEJTBBJTNDc2NyaXB0JTNFJTBEJTBBJTIwJTIwd2luZG93LkJUQ2hlY2tvdXQuY3JlYXRlQ29tcGFjdCUyOCU3QiUwRCUwQSUyMCUyMCUyMCUyMGVsZW1lbnRJZCUzQSUyMCUyMmJyaW5ndGlja2V0LWVtYmVkLXBvZGFyZCUyMiUyQyUwRCUwQSUyMCUyMCUyMCUyMGV2ZW50SWQlM0ElMjAlMjIwMTk4N2UxMi0wZTFkLTcyZWQtOGVjNy00MWFhNmU3NzJkOTQlMjIlMkMlMEQlMEElMjAlMjAlMjAlMjAlMkYlMkYlMjBvcHRpb25hbCUwRCUwQSUyMCUyMCUyMCUyMCUyRiUyQSUwRCUwQSUyMCUyMCUyMCUyMHdpZHRoJTNBJTIwJTIyMTAwJTI1JTIyJTJDJTBEJTBBJTIwJTIwJTIwJTIwaGVpZ2h0JTNBJTIwJTIyNTUwcHglMjIlMEQlMEElMjAlMjAlMjAlMjAlMkElMkYlMEQlMEElMjAlMjAlN0QlMjklMEQlMEElM0MlMkZzY3JpcHQlM0U=[/vc_raw_html][/vc_column][vc_column width=“1/3″][vc_column_text] \nTickets\n[/vc_column_text][vc_column_text] \n[vc_separator color=“black“ align=“align_left“ border_width=“7″ el_width=“50″] \n[/vc_column_text]\n	Tickets Kaufen\n\n[/vc_column][vc_column width=“1/3″][vc_column_text] \nPartnerhotel\n[/vc_column_text][vc_column_text][vc_separator color=“black“ align=“align_left“ border_width=“7″ el_width=“50″][/vc_column_text]\n	Lendhotel Graz\n\n[/vc_column][/vc_row][vc_row][vc_column][vc_column_text css=““ el_class=“bildcredits“][/vc_column_text][/vc_column][/vc_row]
URL:https://www.helmut-list-halle.com/event/drei-haselnuesse-fuer-aschenbroedel-das-musica/2027-02-20/2/
LOCATION:Helmut List Halle\, Wagner-Biro-Straße 98a\, Graz\, 8020\, Österreich
CATEGORIES:Musical
ATTACH;FMTTYPE=image/jpeg:https://www.helmut-list-halle.com/wp-content/uploads/2026/03/hlh_Eventbild_1920x1080.jpg
END:VEVENT
BEGIN:VEVENT
DTSTART;TZID=Europe/Vienna:20270221T140000
DTEND;TZID=Europe/Vienna:20270221T163000
DTSTAMP:20260425T212538
CREATED:20260309T124024Z
LAST-MODIFIED:20260309T124519Z
UID:10000975-1803218400-1803227400@www.helmut-list-halle.com
SUMMARY:Drei Haselnüsse für Aschenbrödel - Das Musical
DESCRIPTION:[vc_row][vc_column][vc_column_text css=““] \nDer Winter 2026/27 wird märchenhaft – Aschenbrödel verzaubert live und\ngeht mit noch mehr Spielorten auf große Musical-Reise!\n[/vc_column_text][/vc_column][/vc_row][vc_row][vc_column][vc_column_text css=““]Der zeitlose Weihnachtsklassiker kehrt zurück – und zwar so lebendig wie nie zuvor. DREI HASELNÜSSE FÜR ASCHENBRÖDEL – DAS MUSICAL bringt im Winter 2026/27 die Magie des Kultfilms mit seiner berühmten Originalmusik endlich live auf die Bühne und ist in einer erweiterten Tour erstmals in zahlreichen neuen Städten zu erleben. Ein emotionales\, mitreißendes Erlebnis für die ganze Familie\, das die Adventszeit um ein neues Highlight bereichert. \nSo fühlt sich Weihnachten live an\nSeit über 50 Jahren gehört „Drei Haselnüsse für Aschenbrödel“ zu den wichtigsten Traditionen der Weihnachtszeit. Millionen Menschen verbinden mit dem Film die schönsten Erinnerungen an Wintertage. Das Musical lässt diese Magie neu aufleben: von funkelnden Schneelandschaften über das prachtvolle Schloss bis hin zum glitzernden Ball\, auf dem Aschenbrödel und der Prinz auf berührende Weise zueinanderfinden. \nDie Musik: Kult trifft Musicalmagie\nDie ikonische Titelmelodie von Karel Svoboda – ein echter Gänsehautmoment für Generationen – bildet das musikalische Fundament der Show. Ergänzt wird sie durch frische\, emotionale Kompositionen von Thomas Zaufke (Die wunderbare Reise des Nils Holgersson\, Grimm! und Preisträger des Deutschen Musical Theater Preises). Gemeinsam entsteht ein musikalisches Erlebnis\, das Nostalgie und Neues perfekt verbindet und das Publikum garantiert in Weihnachtsstimmung versetzt.[/vc_column_text][/vc_column][/vc_row][vc_row disable_element=“yes“][vc_column]\n	\n		\n			\n						\n	\n\n			\n						\n	\n\n			\n						\n	\n\n			\n						\n	\n	\n\n[/vc_column][/vc_row][vc_row disable_element=“yes“][vc_column][vc_column_text] \npresented by\n[/vc_column_text][vc_row_inner][vc_column_inner width=“1/6″ offset=“vc_col-lg-2 vc_col-md-4 vc_col-xs-6″]\n		\n					\n										\n			\n\n[/vc_column_inner][vc_column_inner width=“1/6″ offset=“vc_col-lg-2 vc_col-md-4 vc_col-xs-6″]\n		\n					\n										\n			\n\n[/vc_column_inner][vc_column_inner width=“1/6″ offset=“vc_col-lg-2 vc_col-md-4 vc_col-xs-6″][/vc_column_inner][vc_column_inner width=“1/6″ offset=“vc_col-lg-2 vc_col-md-4 vc_col-xs-6″][/vc_column_inner][vc_column_inner width=“1/6″ offset=“vc_col-lg-2 vc_col-md-4 vc_col-xs-6″][/vc_column_inner][vc_column_inner width=“1/6″ offset=“vc_col-lg-2 vc_col-md-4 vc_col-xs-6″][/vc_column_inner][/vc_row_inner][/vc_column][/vc_row][vc_row][vc_column width=“1/3″][vc_column_text] \nTickets\n[/vc_column_text][vc_column_text] \n[vc_separator color=“black“ align=“align_left“ border_width=“7″ el_width=“50″] \n[/vc_column_text]\n	Tickets: 19.02.2027\, 19:30 Uhr\n\n\n	Tickets: 20.02.2027\, 15:00 Uhr\n\n\n	Tickets: 20.02.2027\, 19:30 Uhr\n\n\n	Tickets: 21.02.2027\, 14:00 Uhr\n\n[/vc_column][vc_column width=“1/3″][vc_column_text] \nPartnerhotel\n[/vc_column_text][vc_column_text][vc_separator color=“black“ align=“align_left“ border_width=“7″ el_width=“50″][/vc_column_text]\n	Lendhotel\n\n\n	Harry's Home - 15% off\n\n[/vc_column][vc_column width=“1/3″][/vc_column][/vc_row][vc_row disable_element=“yes“][vc_column width=“1/3″][vc_column_text css=““] \nTickets: bringticket\n[/vc_column_text][vc_column_text] \n[vc_separator color=“black“ align=“align_left“ border_width=“7″ el_width=“50″] \n[/vc_column_text][vc_raw_html css=““]JTNDZGl2JTIwaWQlM0QlMjJicmluZ3RpY2tldC1lbWJlZC1wb2RhcmQlMjIlM0UlM0MlMkZkaXYlM0UlMEQlMEElM0NzY3JpcHQlMjBzcmMlM0QlMjJodHRwcyUzQSUyRiUyRmNoZWNrb3V0LmJyaW5ndGlja2V0LmNvbSUyRmFzc2V0cyUyRmJ0LWNoZWNrb3V0LmpzJTIyJTNFJTNDJTJGc2NyaXB0JTNFJTBEJTBBJTNDc2NyaXB0JTNFJTBEJTBBJTIwJTIwd2luZG93LkJUQ2hlY2tvdXQuY3JlYXRlQ29tcGFjdCUyOCU3QiUwRCUwQSUyMCUyMCUyMCUyMGVsZW1lbnRJZCUzQSUyMCUyMmJyaW5ndGlja2V0LWVtYmVkLXBvZGFyZCUyMiUyQyUwRCUwQSUyMCUyMCUyMCUyMGV2ZW50SWQlM0ElMjAlMjIwMTk4N2UxMi0wZTFkLTcyZWQtOGVjNy00MWFhNmU3NzJkOTQlMjIlMkMlMEQlMEElMjAlMjAlMjAlMjAlMkYlMkYlMjBvcHRpb25hbCUwRCUwQSUyMCUyMCUyMCUyMCUyRiUyQSUwRCUwQSUyMCUyMCUyMCUyMHdpZHRoJTNBJTIwJTIyMTAwJTI1JTIyJTJDJTBEJTBBJTIwJTIwJTIwJTIwaGVpZ2h0JTNBJTIwJTIyNTUwcHglMjIlMEQlMEElMjAlMjAlMjAlMjAlMkElMkYlMEQlMEElMjAlMjAlN0QlMjklMEQlMEElM0MlMkZzY3JpcHQlM0U=[/vc_raw_html][/vc_column][vc_column width=“1/3″][vc_column_text] \nTickets\n[/vc_column_text][vc_column_text] \n[vc_separator color=“black“ align=“align_left“ border_width=“7″ el_width=“50″] \n[/vc_column_text]\n	Tickets Kaufen\n\n[/vc_column][vc_column width=“1/3″][vc_column_text] \nPartnerhotel\n[/vc_column_text][vc_column_text][vc_separator color=“black“ align=“align_left“ border_width=“7″ el_width=“50″][/vc_column_text]\n	Lendhotel Graz\n\n[/vc_column][/vc_row][vc_row][vc_column][vc_column_text css=““ el_class=“bildcredits“][/vc_column_text][/vc_column][/vc_row]
URL:https://www.helmut-list-halle.com/event/drei-haselnuesse-fuer-aschenbroedel-das-musica/2027-02-21/
LOCATION:Helmut List Halle\, Wagner-Biro-Straße 98a\, Graz\, 8020\, Österreich
CATEGORIES:Musical
ATTACH;FMTTYPE=image/jpeg:https://www.helmut-list-halle.com/wp-content/uploads/2026/03/hlh_Eventbild_1920x1080.jpg
END:VEVENT
END:VCALENDAR